BEGIN:VCALENDAR
VERSION:2.0
PRODID:icalendar-ruby
CALSCALE:GREGORIAN
METHOD:PUBLISH
BEGIN:VEVENT
DTSTAMP:20260422T130718Z
UID:228-1617025@trinitymemorialuc.com
DTSTART:20260509T160000Z
DTEND:20260510T190000Z
CLASS:PUBLIC
CREATED:20260421T130001
DESCRIPTION:
LAST-MODIFIED:20260421T130001
LOCATION:Trinity Memorial United Church
SUMMARY:Open House
URL;VALUE=URI:https://www.trinitymemorialuc.com/events/open-house/2026-05-0
 9
ATTACH;FILENAME=Open-House.png;FMTTYPE=image/png:https://dq5pwpg1q8ru0.clou
 dfront.net/2026/04/21/20/00/00/3d95fefb-8da3-404e-82ec-2a6b75be7aab/Open-H
 ouse.png
ATTACH;FILENAME=Open House.png;FMTTYPE=image/png:https://dq5pwpg1q8ru0.clou
 dfront.net/2026/04/21/20/00/00/0ad508b6-2e9c-4e76-9e59-16008d43ea1e/Open%2
 0House.png
END:VEVENT
END:VCALENDAR
